BEGIN:VCALENDAR
VERSION:2.0
PRODID:-//ChamberMaster//Event Calendar 2.0//EN
METHOD:PUBLISH
X-PUBLISHED-TTL:P3D
REFRESH-INTERVAL:P3D
CALSCALE:GREGORIAN
BEGIN:VEVENT
DTSTART:20150129T130000Z
DTEND:20150129T143000Z
X-MICROSOFT-CDO-ALLDAYEVENT:FALSE
SUMMARY:Leadership Bartow Continuing Education
DESCRIPTION:Leadership Education Series\n\nSponsored by Leadership Bartow Alumni Association\n\n\n\nOur guest speaker is\n\nDr. Renva Watterson\n\nGeorgia Highlands College\n\n\n\nJanuary 29\, 8:00 AM - 9:30 AM\n\nCartersville-Bartow County Chamber of Commerce\n\n122 West Main Street\, Cartersville\n\n\n\nTuition is $10 per participant and will include a continental breakfast.
X-ALT-DESC;FMTTYPE=text/html:Leadership Education Series<br />\nSponsored by Leadership Bartow Alumni Association<br />\n<br />\nOur guest speaker is<br />\n<strong>Dr. Renva Watterson</strong><br />\n<em>Georgia Highlands College</em><br />\n<br />\nJanuary 29\, 8:00 AM - 9:30 AM<br />\nCartersville-Bartow County Chamber of Commerce<br />\n122 West Main Street\, Cartersville<br />\n<br />\nTuition is $10 per participant and will include a continental breakfast.
LOCATION:Cartersville-Bartow County Chamber of Commerce 122 West Main Street\, Cartersville
UID:e.1202.125251
SEQUENCE:3
DTSTAMP:20260422T131732Z
URL:http://cartersvillechamber.chambermaster.com/events/details/leadership-bartow-continuing-education-01-29-2015-125251
END:VEVENT

END:VCALENDAR
